BEGIN:VCALENDAR
VERSION:2.0
PRODID:-//TYPO3/NONSGML News system (news)//EN
BEGIN:VEVENT
UID:news-457@www.fulbright.at
DTSTAMP:20190124T095707Z
DTSTART:20190126T094300Z
DTEND:20190126T094300Z
SUMMARY:2019 Vienna Ball of Sciences, January 26, 2019
DESCRIPTION:The 2019 Vienna Ball of Sciences is once again turning Vienna’s town hall into an experimental arrangement of an amusing thirst for knowledge! And this year, for the first time ever, Fulbright Austria is a part of it with a special sparkling reception.
If you plan on attending the ball, you&#039;re invited to stop by for a glass of sparkling wine and to network with current Fulbright US students (three of whom won a ticket to the ball) and Austrian Fulbright alumni from all programs.


END:VEVENT
END:VCALENDAR
