BEGIN:VCALENDAR
VERSION:2.0
PRODID:-//TYPO3/NONSGML News system (news)//EN
BEGIN:VEVENT
UID:news-1125@www.fulbright.at
DTSTAMP:20260423T163212Z
DTSTART:20260605T160000Z
DTEND:20260605T160000Z
SUMMARY:An evening of the arts in Washington, DC
DESCRIPTION:Fulbright Austria is pleased to invite you to an evening full of artistic expression!
END:VEVENT
END:VCALENDAR
