BEGIN:VCALENDAR
VERSION:2.0
PRODID:-//TYPO3/NONSGML News system (news)//EN
BEGIN:VEVENT
UID:news-1074@www.fulbright.at
DTSTAMP:20251107T155449Z
DTSTART:20251107T170000Z
DTEND:20251107T170000Z
SUMMARY:Bundesländertour 2025–26: Meet &amp; greet in Tyrol
DESCRIPTION:Join our local Fulbright Austria community for a memorable event surrounded by the Nordkette mountains.
END:VEVENT
END:VCALENDAR
