BEGIN:VCALENDAR
VERSION:2.0
PRODID:-//TYPO3/NONSGML News system (news)//EN
BEGIN:VEVENT
UID:news-1073@www.fulbright.at
DTSTAMP:20251106T185807Z
DTSTART:20251105T110000Z
DTEND:20251105T110000Z
SUMMARY:Bundesländertour 2025–26: Meet &amp; greet in Vorarlberg
DESCRIPTION:Join our local Fulbright Austria community in the heart of Austria’s westernmost province.
END:VEVENT
END:VCALENDAR
