BEGIN:VCALENDAR
VERSION:2.0
PRODID:-//TYPO3/NONSGML News system (news)//EN
BEGIN:VEVENT
UID:news-335@www.fulbright.at
DTSTAMP:20170913T093339Z
DTSTART:20180324T103300Z
DTEND:20180324T103300Z
SUMMARY:Easter break: secondary schools, March 24 – April 4, 2018
DESCRIPTION:
END:VEVENT
END:VCALENDAR
