BEGIN:VCALENDAR
VERSION:2.0
PRODID:-//TYPO3/NONSGML News system (news)//EN
BEGIN:VEVENT
UID:news-1080@www.fulbright.at
DTSTAMP:20251107T101343Z
DTSTART:20251113T160000Z
DTEND:20251113T160000Z
SUMMARY:&quot;Economic Impact of Generative AI: Threats and Opportunities:&quot; A short lecture from the 2025 Fulbright Seminar in American Studies
DESCRIPTION:Join us on YouTube as we premiere the recording of 2024–25 US Fulbright scholar Akbar Namin&#039;s presentation from the annual seminar. 
END:VEVENT
END:VCALENDAR
