BEGIN:VCALENDAR
VERSION:2.0
PRODID:-//TYPO3/NONSGML News system (news)//EN
BEGIN:VEVENT
UID:news-637@www.fulbright.at
DTSTAMP:20200909T104517Z
DTSTART:20201001T100200Z
DTEND:20201002T100300Z
SUMMARY:Fulbright Austria/EducationUSA at unileben 2020
DESCRIPTION:Join Fulbright Austria at the online unileben 2020 and learn more about teaching German, studying, and doing research in the US with a grant from Fulbright Austria.
END:VEVENT
END:VCALENDAR
