BEGIN:VCALENDAR
VERSION:2.0
PRODID:-//TYPO3/NONSGML News system (news)//EN
BEGIN:VEVENT
UID:news-1062@www.fulbright.at
DTSTAMP:20250731T123255Z
DTSTART:20251004T103000Z
DTEND:20251004T103000Z
SUMMARY:Program promotion 2025–26: Info session in Vienna at the University of Vienna
DESCRIPTION:Join Fulbright Austria and EducationUSA for an info session on opportunities in the US and Austria.
END:VEVENT
END:VCALENDAR
