BEGIN:VCALENDAR
VERSION:2.0
PRODID:-//TYPO3/NONSGML News system (news)//EN
BEGIN:VEVENT
UID:news-589@www.fulbright.at
DTSTAMP:20200114T093940Z
DTSTART:20200123T173000Z
DTEND:20200123T173000Z
SUMMARY:Public lecture at the Diplomatic Academy
DESCRIPTION:A public lecture by US Fulbright scholar John Garofano
END:VEVENT
END:VCALENDAR
