BEGIN:VCALENDAR
VERSION:2.0
PRODID:-//TYPO3/NONSGML News system (news)//EN
BEGIN:VEVENT
UID:news-866@www.fulbright.at
DTSTAMP:20240220T140237Z
DTSTART:20240221T170000Z
DTEND:20240221T170000Z
SUMMARY:tax workshop 2024
DESCRIPTION:Did you know that US citizens are required to report their Fulbright grants and salaries earned abroad on their annual US tax return? Learn more about filing your taxes at our yearly tax workshop.
END:VEVENT
END:VCALENDAR
