BEGIN:VCALENDAR
VERSION:2.0
PRODID:-//TYPO3/NONSGML News system (news)//EN
BEGIN:VEVENT
UID:news-652@www.fulbright.at
DTSTAMP:20210407T100032Z
DTSTART:20210216T141200Z
DTEND:20210216T141200Z
SUMMARY:Alum chat: Julia Pataky’s Fulbright experience
DESCRIPTION:Join us on Zoom as alum Julia Pataky talks about her Fulbright experience.
END:VEVENT
END:VCALENDAR
