BEGIN:VCALENDAR
VERSION:2.0
PRODID:-//TYPO3/NONSGML News system (news)//EN
BEGIN:VEVENT
UID:news-574@www.fulbright.at
DTSTAMP:20191209T141045Z
DTSTART:20200106T140000Z
DTEND:20200106T140000Z
SUMMARY:Austrian Fulbright Student Meet-Up
DESCRIPTION:Current and former Austrian Fulbright students enjoy a Punsch with program officer Darrah Lustig
END:VEVENT
END:VCALENDAR
