BEGIN:VCALENDAR
VERSION:2.0
PRODID:-//TYPO3/NONSGML News system (news)//EN
BEGIN:VEVENT
UID:news-972@www.fulbright.at
DTSTAMP:20241219T124208Z
DTSTART:20250110T170000Z
DTEND:20250110T170000Z
SUMMARY:Bundesländertour 2024–25: Meet &amp; greet in Carinthia
DESCRIPTION:Join our local Fulbright Austria community and kick off 2025 in Carinthia&#039;s capital and Austria&#039;s southern city.
END:VEVENT
END:VCALENDAR
