BEGIN:VCALENDAR
VERSION:2.0
PRODID:-//TYPO3/NONSGML News system (news)//EN
BEGIN:VEVENT
UID:news-709@www.fulbright.at
DTSTAMP:20211221T153005Z
DTSTART:20211224T131000Z
DTEND:20220102T121000Z
SUMMARY:Fulbright Austria office closed for holidays
DESCRIPTION:The Fulbright Austria office will be closed from 24 December 2021 to 2 January 2022. 
END:VEVENT
END:VCALENDAR
