BEGIN:VCALENDAR
VERSION:2.0
PRODID:-//TYPO3/NONSGML News system (news)//EN
BEGIN:VEVENT
UID:news-324@www.fulbright.at
DTSTAMP:20180727T070357Z
DTSTART:20180622T123000Z
DTEND:20180622T123000Z
SUMMARY:Going-Away Heuriger, June 22, 2018
DESCRIPTION:Austrian Fulbright students, scholars and FLTAs spent the afternoon in pre-departure orientation sessions, then met up with the US students and scholars for a going-away party at a traditional Viennese wine tavern (Heurigen).
END:VEVENT
END:VCALENDAR
