BEGIN:VCALENDAR
VERSION:2.0
PRODID:-//TYPO3/NONSGML News system (news)//EN
BEGIN:VEVENT
UID:news-183@www.fulbright.at
DTSTAMP:20230622T142331Z
DTSTART:20170623T095000Z
DTEND:20170623T095000Z
SUMMARY:Going Away Heuriger June 23, 2017
DESCRIPTION:On June 23, Austrian Fulbright students, scholars and FLTAs spent the afternoon in pre-departure orientation sessions, then met up with the US students and scholars for a going-away party at a traditional Viennese wine tavern (Heurigen).
END:VEVENT
END:VCALENDAR
