BEGIN:VCALENDAR
VERSION:2.0
PRODID:-//TYPO3/NONSGML News system (news)//EN
BEGIN:VEVENT
UID:news-420@www.fulbright.at
DTSTAMP:20181214T164828Z
DTSTART:20190531T142700Z
DTEND:20190531T142700Z
SUMMARY:Holiday: Corpus Christi (Fronleichnam), May 31, 2019
DESCRIPTION:
END:VEVENT
END:VCALENDAR
