BEGIN:VCALENDAR
VERSION:2.0
PRODID:-//TYPO3/NONSGML News system (news)//EN
BEGIN:VEVENT
UID:news-415@www.fulbright.at
DTSTAMP:20181214T164828Z
DTSTART:20190501T142300Z
DTEND:20190501T142300Z
SUMMARY:Holiday: Labor Day, May 1, 2019
DESCRIPTION:
END:VEVENT
END:VCALENDAR
