BEGIN:VCALENDAR
VERSION:2.0
PRODID:-//TYPO3/NONSGML News system (news)//EN
BEGIN:VEVENT
UID:news-419@www.fulbright.at
DTSTAMP:20181214T164828Z
DTSTART:20190530T142600Z
DTEND:20190530T142600Z
SUMMARY:Last day of instruction for US Teaching Assistants, May 30, 2019
DESCRIPTION:
END:VEVENT
END:VCALENDAR
