BEGIN:VCALENDAR
VERSION:2.0
PRODID:-//TYPO3/NONSGML News system (news)//EN
BEGIN:VEVENT
UID:news-1087@www.fulbright.at
DTSTAMP:20260122T100844Z
DTSTART:20260129T160000Z
DTEND:20260129T160000Z
SUMMARY:Meet &amp; greet in New York City
DESCRIPTION:Join us for a meet &amp; greet in the Big Apple!
END:VEVENT
END:VCALENDAR
