BEGIN:VCALENDAR
VERSION:2.0
PRODID:-//TYPO3/NONSGML News system (news)//EN
BEGIN:VEVENT
UID:news-910@www.fulbright.at
DTSTAMP:20240506T095102Z
DTSTART:20240529T160000Z
DTEND:20240529T160000Z
SUMMARY:NAFSA 2024: Reception
DESCRIPTION:Join us for a reception co-hosted with our partners at NAFSA 2024.
END:VEVENT
END:VCALENDAR
