BEGIN:VCALENDAR
VERSION:2.0
PRODID:-//TYPO3/NONSGML News system (news)//EN
BEGIN:VEVENT
UID:news-821@www.fulbright.at
DTSTAMP:20230424T113236Z
DTSTART:20230427T143700Z
DTEND:20230427T143700Z
SUMMARY:Public discussion with P. Terrence Hopmann
DESCRIPTION:Join us for a public discussion with 2022–23 US Fulbright scholar P. Terrence Hopmann.
END:VEVENT
END:VCALENDAR
