BEGIN:VCALENDAR
VERSION:2.0
PRODID:-//TYPO3/NONSGML News system (news)//EN
BEGIN:VEVENT
UID:news-680@www.fulbright.at
DTSTAMP:20210622T120502Z
DTSTART:20210624T141100Z
DTEND:20210624T141100Z
SUMMARY:Public lecture at the Sigmund Freud Museum
DESCRIPTION:A public lecture by US Fulbright scholar Jennifer Friedlander
END:VEVENT
END:VCALENDAR
