BEGIN:VCALENDAR
VERSION:2.0
PRODID:-//TYPO3/NONSGML News system (news)//EN
BEGIN:VEVENT
UID:news-894@www.fulbright.at
DTSTAMP:20240213T104712Z
DTSTART:20240304T173000Z
DTEND:20240304T173000Z
SUMMARY:Public lecture by Ido Oren
DESCRIPTION:Join us for a public lecture at the Diplomatic Academy of Vienna.
END:VEVENT
END:VCALENDAR
