BEGIN:VCALENDAR
VERSION:2.0
PRODID:-//TYPO3/NONSGML News system (news)//EN
BEGIN:VEVENT
UID:news-1036@www.fulbright.at
DTSTAMP:20250616T153821Z
DTSTART:20250519T081500Z
DTEND:20250519T081500Z
SUMMARY:Public workshop by Anita McChesney
DESCRIPTION:Join us for a public workshop by 2024–25 US Fulbright scholar Anita McChesney in Innsbruck.
END:VEVENT
END:VCALENDAR
