BEGIN:VCALENDAR
VERSION:2.0
PRODID:-//TYPO3/NONSGML News system (news)//EN
BEGIN:VEVENT
UID:news-1124@www.fulbright.at
DTSTAMP:20260422T094430Z
DTSTART:20260521T163000Z
DTEND:20260521T163000Z
SUMMARY:Red, White, and Book Club in Vienna: Mornings in Jenin
DESCRIPTION:You are invited to attend the meeting of the Red, White, and Book Club in Vienna!
END:VEVENT
END:VCALENDAR
