BEGIN:VCALENDAR
VERSION:2.0
PRODID:-//TYPO3/NONSGML News system (news)//EN
BEGIN:VEVENT
UID:news-411@www.fulbright.at
DTSTAMP:20181214T164828Z
DTSTART:20190204T145500Z
DTEND:20190204T145500Z
SUMMARY:Semester break for secondary schools in: Lower Austria, Vienna, February 4–9, 2019
DESCRIPTION:
END:VEVENT
END:VCALENDAR
