BEGIN:VCALENDAR
VERSION:2.0
PRODID:-//TYPO3/NONSGML News system (news)//EN
BEGIN:VEVENT
UID:news-414@www.fulbright.at
DTSTAMP:20181214T164828Z
DTSTART:20190201T152100Z
DTEND:20190201T152100Z
SUMMARY:Semester break: universities, February 1–28, 2019
DESCRIPTION:
END:VEVENT
END:VCALENDAR
