BEGIN:VCALENDAR
VERSION:2.0
PRODID:-//TYPO3/NONSGML News system (news)//EN
BEGIN:VEVENT
UID:news-558@www.fulbright.at
DTSTAMP:20191205T092343Z
DTSTART:20191203T173000Z
DTEND:20191203T173000Z
SUMMARY:2019 Thank Fulbright - Thanksgiving
DESCRIPTION:Join us for Fulbright Austria&#039;s annual Thanksgiving dinner.
END:VEVENT
END:VCALENDAR
