BEGIN:VCALENDAR
VERSION:2.0
PRODID:-//TYPO3/NONSGML News system (news)//EN
BEGIN:VEVENT
UID:news-1082@www.fulbright.at
DTSTAMP:20260209T125530Z
DTSTART:20260124T190000Z
DTEND:20260124T190000Z
SUMMARY:Vienna Ball of Sciences 2026: Sparkling reception
DESCRIPTION:Sparkle with Fulbright Austria at the Vienna Ball of Sciences.
END:VEVENT
END:VCALENDAR
